BEGIN:VCALENDAR
VERSION:2.0
PRODID:-//wp-events-plugin.com//7.2.3.1//EN
TZID:Europe/Berlin
X-WR-TIMEZONE:Europe/Berlin
BEGIN:VEVENT
UID:441@unionstiftung.de
DTSTART;TZID=Europe/Berlin:20260516T090000
DTEND;TZID=Europe/Berlin:20260516T160000
DTSTAMP:20260420T075816Z
URL:https://www.unionstiftung.de/veranstaltungen/tagesseminar-social-media
 -in-der-praxis-in-saarbruecken/
SUMMARY:Tagesseminar: Social Media in der Praxis in Saarbrücken
DESCRIPTION:Tagesseminar in Saarbrücken: Social Media\, Canva\, Video und 
 KI praxisnah für Deinen Verein anwenden und sichtbar werden.
ATTACH;FMTTYPE=image/jpeg:https://www.unionstiftung.de/wp-content/uploads/
 2026/04/2026-05-16-Tagesseminar-Social-Media-in-der-Praxis-in-Saarbruecken
 .png
CATEGORIES:Vortrag
LOCATION:Haus der Union Stiftung\, Steinstraße 10\, Saarbrücken\, 66115\,
  Deutschland
X-APPLE-STRUCTURED-LOCATION;VALUE=URI;X-ADDRESS=Steinstraße 10\, Saarbrüc
 ken\, 66115\, Deutschland;X-APPLE-RADIUS=100;X-TITLE=Haus der Union Stiftu
 ng:geo:0,0
END:VEVENT
BEGIN:VTIMEZONE
TZID:Europe/Berlin
X-LIC-LOCATION:Europe/Berlin
BEGIN:DAYLIGHT
DTSTART:20260329T030000
TZOFFSETFROM:+0100
TZOFFSETTO:+0200
TZNAME:CEST
END:DAYLIGHT
END:VTIMEZONE
END:VCALENDAR