BEGIN:VCALENDAR
VERSION:2.0
PRODID:-//wp-events-plugin.com//7.2.3.1//EN
TZID:Europe/Berlin
X-WR-TIMEZONE:Europe/Berlin
BEGIN:VEVENT
UID:450@unionstiftung.de
DTSTART;TZID=Europe/Berlin:20260425T170000
DTEND;TZID=Europe/Berlin:20260425T210000
DTSTAMP:20260422T123017Z
URL:https://www.unionstiftung.de/veranstaltungen/reaktoren-explodieren-nic
 ht-eine-kurze-geschichte-der-tschernobyl-katastrophe/
SUMMARY:Reaktoren explodieren nicht – Eine kurze Geschichte der Tschernob
 yl-Katastrophe
DESCRIPTION:Die Union Stiftung und das Ukrainisch-Deutsche Kultur- und Bild
 ungszentrum im Saarland „KOD“ e.V. laden zu einer Buchvorstellung und 
 Diskussion in die Breite 63 in Saarbrücken ein.
ATTACH;FMTTYPE=image/jpeg:https://www.unionstiftung.de/wp-content/uploads/
 2026/04/2026-04-25-Buchvorstellung-Reaktoren-explodieren-nicht-2.jpg
CATEGORIES:Buchvorstellung
LOCATION:Breite 63. Das soziokulturelle Zentrum in Saarbrücken-Malstatt\, 
 Breite Straße 63\, Saarbrücken\, 66115\, Deutschland
X-APPLE-STRUCTURED-LOCATION;VALUE=URI;X-ADDRESS=Breite Straße 63\, Saarbr
 ücken\, 66115\, Deutschland;X-APPLE-RADIUS=100;X-TITLE=Breite 63. Das soz
 iokulturelle Zentrum in Saarbrücken-Malstatt:geo:0,0
END:VEVENT
BEGIN:VTIMEZONE
TZID:Europe/Berlin
X-LIC-LOCATION:Europe/Berlin
BEGIN:DAYLIGHT
DTSTART:20260329T030000
TZOFFSETFROM:+0100
TZOFFSETTO:+0200
TZNAME:CEST
END:DAYLIGHT
END:VTIMEZONE
END:VCALENDAR