BEGIN:VCALENDAR
VERSION:2.0
PRODID:-//wp-events-plugin.com//7.2.3.1//EN
TZID:Europe/Berlin
X-WR-TIMEZONE:Europe/Berlin
BEGIN:VEVENT
UID:437@unionstiftung.de
DTSTART;TZID=Europe/Berlin:20260429T173000
DTEND;TZID=Europe/Berlin:20260429T200000
DTSTAMP:20260422T072629Z
URL:https://www.unionstiftung.de/veranstaltungen/die-zukunft-der-sozialen-
 sicherung-mehr-umverteilung-oder-mehr-eigenverantwortung/
SUMMARY:Ausgebucht! Die Zukunft der sozialen Sicherung: Mehr Umverteilung 
 â€“ oder mehr Eigenverantwortung?
DESCRIPTION:Die Veranstaltung ist ausgebucht! \n\nDer Sozialstaat steht an 
 einem Wendepunkt. Heute flieÃŸt mehr als jeder zweite Euro des Bundeshaush
 alts in soziale Leistungen - Tendenz steigend. Gleichzeitig setzen stagnie
 rendes Wachstum und der demografische Wandel das System zunehmend unter Dr
 uck.\n\nDamit rÃ¼ckt die Frage nach strukturellen Reformen stÃ¤rker in den
  Mittelpunkt â€“ zugleich wird das Zeitfenster fÃ¼r tragfÃ¤hige LÃ¶sungen 
 enger. In der politischen Debatte zeigen sich unterschiedliche Positionen:
  Die einen sehen den Sozialstaat zunehmend Ã¼berdehnt und an der Grenze se
 iner Finanzierbarkeit\, die anderen betonen seine Rolle als StabilitÃ¤tsan
 ker und Standortfaktor. Zwischen diesen Polen entscheidet sich die Zukunft
 sfÃ¤higkeit unseres Sozialstaats.\n\nDie entscheidenden Fragen lauten: Wie
  viel Umverteilung ist noch tragfÃ¤hig â€“ und wie viel Eigenverantwortung
  braucht ein zukunftsfester Sozialstaat? Und wird es gelingen\, wirtschaft
 liche TragfÃ¤higkeit\, Wachstumsimpulse und gesellschaftliche StabilitÃ¤t 
 in Einklang zu bringen?\n\nDarÃ¼ber diskutieren am Mittwoch\, den 29. Apri
 l 2026\, um 17.30 Uhr in der IHK zwei der profiliertesten Ã–konomen Deutsc
 hlands: Prof. Dr. Lars FeldÂ undÂ Prof. Dr. Achim Truger. Gemeinsam mit un
 seren Partnern\, den Familienunternehmern Saarland und der Union Stiftung\
 , laden wir Sie herzlich ein\, diese zentrale Zukunftsfrage mit uns zu er
 Ã¶rtern. Wir freuen uns auf Ihr Kommen!\n\nVeranstaltungsort:\nIHK Saarlan
 d\nFranz-Josef-RÃ¶der-StraÃŸe 9\n66119 SaarbrÃ¼cken\n\nProgramm\n\nHerzlic
 h willkommen!\nDr. Hanno Dornseifer\, PrÃ¤sident der IHK Saarland\nJR Hans
 -Georg Warken\, Vorsitzender des Vorstands der Union Stiftung e.V.\n\nMode
 riertes StreitgesprÃ¤ch\nDie Zukunft der sozialen Sicherung: Mehr Umvertei
 lung oder mehr Eigenverantwortung?\n\n 	Prof. Dr. Lars Feld\, Direktor des
  Walter Eucken Instituts\n 	Prof. Dr. Achim Truger\, Mitglied des Sachvers
 tÃ¤ndigenrates zur Begutachtung der gesamtwirtschaftlichen Entwicklung\n\n
 Moderation:Â Dr. Frank ThomÃ©\, HauptgeschÃ¤ftsfÃ¼hrer der IHK Saarland\n\
 nGelegenheit fÃ¼r Fragen\n\nHerzlicher Dank und Ausblick\nWolfgang Herges\
 , Landesvorsitzender DIE FAMILIENUNTERNEHMER im Saarland\n\nGet together\n
 \nVeranstalter:\nIHK Saarland\, Die Familienunternehmer Saarland\, Union S
 tiftung
ATTACH;FMTTYPE=image/jpeg:https://www.unionstiftung.de/wp-content/uploads/
 2026/03/2026-04-29-Die-Zukunft-der-sozialen-Sicherung-Mehr-Umverteilung-â€
 “-oder-mehr-Eigenverantwortung-1.png
CATEGORIES:Podiumsdiskussion
LOCATION:IHK Saarland\, Franz-Josef-RÃ¶der-StraÃŸe 9\, SaarbrÃ¼cken\, 66119
 \, Deutschland
X-APPLE-STRUCTURED-LOCATION;VALUE=URI;X-ADDRESS=Franz-Josef-RÃ¶der-StraÃŸe 
 9\, SaarbrÃ¼cken\, 66119\, Deutschland;X-APPLE-RADIUS=100;X-TITLE=IHK Saar
 land:geo:0,0
END:VEVENT
BEGIN:VTIMEZONE
TZID:Europe/Berlin
X-LIC-LOCATION:Europe/Berlin
BEGIN:DAYLIGHT
DTSTART:20260329T030000
TZOFFSETFROM:+0100
TZOFFSETTO:+0200
TZNAME:CEST
END:DAYLIGHT
END:VTIMEZONE
END:VCALENDAR